Package: GSCA Version: 2.37.0 Command: /Library/Frameworks/R.framework/Resources/bin/R CMD INSTALL GSCA StartedAt: 2025-02-20 15:15:09 -0500 (Thu, 20 Feb 2025) EndedAt: 2025-02-20 15:15:12 -0500 (Thu, 20 Feb 2025) EllapsedTime: 3.2 seconds RetCode: 0 Status: OK