Package: GSAR Version: 1.41.0 Command: /home/biocbuild/R/R/bin/R CMD build --keep-empty-dirs --no-resave-data GSAR StartedAt: 2025-01-28 23:24:27 -0000 (Tue, 28 Jan 2025) EndedAt: 2025-01-28 23:41:15 -0000 (Tue, 28 Jan 2025) EllapsedTime: 1008.4 seconds RetCode: 0 Status: OK PackageFile: GSAR_1.41.0.tar.gz PackageFileSize: 1.793 MiB