Package: GSAR Version: 1.41.0 Command: /Library/Frameworks/R.framework/Resources/bin/R CMD INSTALL GSAR StartedAt: 2025-02-19 15:02:02 -0500 (Wed, 19 Feb 2025) EndedAt: 2025-02-19 15:02:06 -0500 (Wed, 19 Feb 2025) EllapsedTime: 4.8 seconds RetCode: 0 Status: OK