Package: GSAR Version: 1.41.0 Command: rm -rf GSAR.buildbin-libdir && mkdir GSAR.buildbin-libdir && /Users/biocbuild/BBS/utils/build-universal.sh GSAR_1.41.0.tar.gz /Library/Frameworks/R.framework/Resources/bin/R GSAR.buildbin-libdir StartedAt: 2025-02-19 22:24:27 -0500 (Wed, 19 Feb 2025) EndedAt: 2025-02-19 22:24:31 -0500 (Wed, 19 Feb 2025) EllapsedTime: 3.1 seconds RetCode: 0 Status: OK PackageFile: GSAR_1.41.0.tgz PackageFileSize: 3.48 MiB