Package: GSALightning Version: 1.35.0 Command: E:\biocbuild\bbs-3.21-bioc\R\bin\R.exe CMD INSTALL GSALightning StartedAt: 2025-02-17 15:21:21 -0500 (Mon, 17 Feb 2025) EndedAt: 2025-02-17 15:21:43 -0500 (Mon, 17 Feb 2025) EllapsedTime: 22.3 seconds RetCode: 0 Status: OK