Package: GSALightning Version: 1.35.0 Command: chmod a+r GSALightning -R && E:\biocbuild\bbs-3.21-bioc\R\bin\R.exe CMD build --keep-empty-dirs --no-resave-data GSALightning StartedAt: 2025-02-17 18:59:31 -0500 (Mon, 17 Feb 2025) EndedAt: 2025-02-17 19:01:00 -0500 (Mon, 17 Feb 2025) EllapsedTime: 89.3 seconds RetCode: 0 Status: OK PackageFile: GSALightning_1.35.0.tar.gz PackageFileSize: 4.222 MiB