Package: GSALightning Version: 1.35.0 Command: rm -rf GSALightning.buildbin-libdir && mkdir GSALightning.buildbin-libdir && E:\biocbuild\bbs-3.21-bioc\R\bin\R.exe CMD INSTALL --build --library=GSALightning.buildbin-libdir GSALightning_1.35.0.tar.gz StartedAt: 2025-02-18 07:29:34 -0500 (Tue, 18 Feb 2025) EndedAt: 2025-02-18 07:29:52 -0500 (Tue, 18 Feb 2025) EllapsedTime: 17.9 seconds RetCode: 0 Status: OK PackageFile: GSALightning_1.35.0.zip PackageFileSize: 4.26 MiB