Package: GSALightning Version: 1.35.0 Command: /home/biocbuild/bbs-3.21-bioc/R/bin/R CMD check --install=check:GSALightning.install-out.txt --library=/home/biocbuild/bbs-3.21-bioc/R/site-library --timings GSALightning_1.35.0.tar.gz StartedAt: 2025-02-17 22:43:40 -0500 (Mon, 17 Feb 2025) EndedAt: 2025-02-17 22:45:16 -0500 (Mon, 17 Feb 2025) EllapsedTime: 96.1 seconds RetCode: 0 Status: OK CheckDir: GSALightning.Rcheck Warnings: 0