Package: GRmetrics Version: 1.33.0 Command: /home/biocbuild/bbs-3.21-bioc/R/bin/R CMD check --install=check:GRmetrics.install-out.txt --library=/home/biocbuild/bbs-3.21-bioc/R/site-library --timings GRmetrics_1.33.0.tar.gz StartedAt: 2025-02-19 22:51:48 -0500 (Wed, 19 Feb 2025) EndedAt: 2025-02-19 22:54:12 -0500 (Wed, 19 Feb 2025) EllapsedTime: 143.2 seconds RetCode: 0 Status: OK CheckDir: GRmetrics.Rcheck Warnings: 0