Package: GRmetrics Version: 1.33.0 Command: /Library/Frameworks/R.framework/Resources/bin/R CMD check --install=check:GRmetrics.install-out.txt --library=/Library/Frameworks/R.framework/Resources/library --no-vignettes --timings GRmetrics_1.33.0.tar.gz StartedAt: 2025-02-20 19:36:08 -0500 (Thu, 20 Feb 2025) EndedAt: 2025-02-20 19:36:54 -0500 (Thu, 20 Feb 2025) EllapsedTime: 46.6 seconds RetCode: 0 Status: OK CheckDir: GRmetrics.Rcheck Warnings: 0