Package: GRaNIE Version: 1.11.0 Command: /home/biocbuild/bbs-3.21-bioc/R/bin/R CMD check --install=check:GRaNIE.install-out.txt --library=/home/biocbuild/bbs-3.21-bioc/R/site-library --timings GRaNIE_1.11.0.tar.gz StartedAt: 2025-02-20 22:31:23 -0500 (Thu, 20 Feb 2025) EndedAt: 2025-02-20 22:31:28 -0500 (Thu, 20 Feb 2025) EllapsedTime: 5.0 seconds RetCode: 1 Status: ERROR CheckDir: GRaNIE.Rcheck Warnings: NA