Package: GRaNIE Version: 1.11.0 Command: /home/biocbuild/bbs-3.21-bioc/R/bin/R CMD build --keep-empty-dirs --no-resave-data GRaNIE StartedAt: 2025-02-20 17:40:26 -0500 (Thu, 20 Feb 2025) EndedAt: 2025-02-20 17:44:04 -0500 (Thu, 20 Feb 2025) EllapsedTime: 218.2 seconds RetCode: 0 Status: OK PackageFile: GRaNIE_1.11.0.tar.gz PackageFileSize: 9.289 MiB