Package: GRaNIE Version: 1.11.0 Command: /Library/Frameworks/R.framework/Resources/bin/R CMD check --install=check:GRaNIE.install-out.txt --library=/Library/Frameworks/R.framework/Resources/library --no-vignettes --timings GRaNIE_1.11.0.tar.gz StartedAt: 2025-02-20 19:35:34 -0500 (Thu, 20 Feb 2025) EndedAt: 2025-02-20 19:38:49 -0500 (Thu, 20 Feb 2025) EllapsedTime: 195.4 seconds RetCode: 0 Status: OK CheckDir: GRaNIE.Rcheck Warnings: 0