Package: GRENITS Version: 1.59.0 Command: rm -rf GRENITS.buildbin-libdir && mkdir GRENITS.buildbin-libdir && E:\biocbuild\bbs-3.21-bioc\R\bin\R.exe CMD INSTALL --build --library=GRENITS.buildbin-libdir GRENITS_1.59.0.tar.gz StartedAt: 2025-02-18 07:29:26 -0500 (Tue, 18 Feb 2025) EndedAt: 2025-02-18 07:31:07 -0500 (Tue, 18 Feb 2025) EllapsedTime: 100.9 seconds RetCode: 0 Status: OK PackageFile: GRENITS_1.59.0.zip PackageFileSize: 737.1 KiB