Package: GRENITS Version: 1.59.0 Command: /home/biocbuild/bbs-3.21-bioc/R/bin/R CMD check --install=check:GRENITS.install-out.txt --library=/home/biocbuild/bbs-3.21-bioc/R/site-library --timings GRENITS_1.59.0.tar.gz StartedAt: 2025-02-17 22:43:26 -0500 (Mon, 17 Feb 2025) EndedAt: 2025-02-17 22:46:57 -0500 (Mon, 17 Feb 2025) EllapsedTime: 211.4 seconds RetCode: 0 Status: OK CheckDir: GRENITS.Rcheck Warnings: 0