Package: GRENITS Version: 1.59.0 Command: /home/biocbuild/bbs-3.21-bioc/R/bin/R CMD build --keep-empty-dirs --no-resave-data GRENITS StartedAt: 2025-02-17 17:28:26 -0500 (Mon, 17 Feb 2025) EndedAt: 2025-02-17 17:30:01 -0500 (Mon, 17 Feb 2025) EllapsedTime: 95.1 seconds RetCode: 0 Status: OK PackageFile: GRENITS_1.59.0.tar.gz PackageFileSize: 266.9 KiB