Package: GRENITS Version: 1.59.0 Command: /home/biocbuild/R/R/bin/R CMD build --keep-empty-dirs --no-resave-data GRENITS StartedAt: 2025-01-28 23:23:25 -0000 (Tue, 28 Jan 2025) EndedAt: 2025-01-28 23:25:51 -0000 (Tue, 28 Jan 2025) EllapsedTime: 146.0 seconds RetCode: 0 Status: OK PackageFile: GRENITS_1.59.0.tar.gz PackageFileSize: 261.5 KiB