Package: GPA Version: 1.19.0 Command: E:\biocbuild\bbs-3.21-bioc\R\bin\R.exe CMD check --no-multiarch --install=check:GPA.install-out.txt --library=E:\biocbuild\bbs-3.21-bioc\R\library --no-vignettes --timings GPA_1.19.0.tar.gz StartedAt: 2025-02-21 01:59:10 -0500 (Fri, 21 Feb 2025) EndedAt: 2025-02-21 02:00:46 -0500 (Fri, 21 Feb 2025) EllapsedTime: 95.2 seconds RetCode: 0 Status: OK CheckDir: GPA.Rcheck Warnings: 0