Package: GPA Version: 1.19.0 Command: chmod a+r GPA -R && E:\biocbuild\bbs-3.21-bioc\R\bin\R.exe CMD build --keep-empty-dirs --no-resave-data GPA StartedAt: 2025-02-20 19:07:23 -0500 (Thu, 20 Feb 2025) EndedAt: 2025-02-20 19:10:40 -0500 (Thu, 20 Feb 2025) EllapsedTime: 196.3 seconds RetCode: 0 Status: OK PackageFile: GPA_1.19.0.tar.gz PackageFileSize: 185.3 KiB