Package: GPA Version: 1.19.0 Command: rm -rf GPA.buildbin-libdir && mkdir GPA.buildbin-libdir && E:\biocbuild\bbs-3.21-bioc\R\bin\R.exe CMD INSTALL --build --library=GPA.buildbin-libdir GPA_1.19.0.tar.gz StartedAt: 2025-02-21 08:14:25 -0500 (Fri, 21 Feb 2025) EndedAt: 2025-02-21 08:14:57 -0500 (Fri, 21 Feb 2025) EllapsedTime: 31.9 seconds RetCode: 0 Status: OK PackageFile: GPA_1.19.0.zip PackageFileSize: 755.2 KiB