Package: GPA Version: 1.19.0 Command: /home/biocbuild/bbs-3.21-bioc/R/bin/R CMD INSTALL GPA StartedAt: 2025-02-20 15:13:24 -0500 (Thu, 20 Feb 2025) EndedAt: 2025-02-20 15:13:39 -0500 (Thu, 20 Feb 2025) EllapsedTime: 15.1 seconds RetCode: 0 Status: OK