Package: GPA Version: 1.19.0 Command: /Library/Frameworks/R.framework/Resources/bin/R CMD INSTALL GPA StartedAt: 2025-02-20 15:16:51 -0500 (Thu, 20 Feb 2025) EndedAt: 2025-02-20 15:16:57 -0500 (Thu, 20 Feb 2025) EllapsedTime: 5.9 seconds RetCode: 0 Status: OK