Package: GOstats Version: 2.73.0 Command: /Library/Frameworks/R.framework/Resources/bin/R CMD INSTALL GOstats StartedAt: 2025-02-19 15:20:38 -0500 (Wed, 19 Feb 2025) EndedAt: 2025-02-19 15:20:47 -0500 (Wed, 19 Feb 2025) EllapsedTime: 8.6 seconds RetCode: 0 Status: OK