Package: GOpro Version: 1.33.0 Command: E:\biocbuild\bbs-3.21-bioc\R\bin\R.exe CMD INSTALL GOpro StartedAt: 2025-02-20 16:14:02 -0500 (Thu, 20 Feb 2025) EndedAt: 2025-02-20 16:14:52 -0500 (Thu, 20 Feb 2025) EllapsedTime: 50.6 seconds RetCode: 0 Status: OK