Package: GOpro Version: 1.33.0 Command: /home/biocbuild/bbs-3.21-bioc/R/bin/R CMD build --keep-empty-dirs --no-resave-data GOpro StartedAt: 2025-02-20 17:39:01 -0500 (Thu, 20 Feb 2025) EndedAt: 2025-02-20 17:40:07 -0500 (Thu, 20 Feb 2025) EllapsedTime: 66.1 seconds RetCode: 0 Status: OK PackageFile: GOpro_1.33.0.tar.gz PackageFileSize: 1.133 MiB