Package: GOpro Version: 1.33.0 Command: /Library/Frameworks/R.framework/Resources/bin/R CMD build --keep-empty-dirs --no-resave-data GOpro StartedAt: 2025-02-20 16:51:57 -0500 (Thu, 20 Feb 2025) EndedAt: 2025-02-20 16:53:09 -0500 (Thu, 20 Feb 2025) EllapsedTime: 71.9 seconds RetCode: 0 Status: OK PackageFile: GOpro_1.33.0.tar.gz PackageFileSize: 1.056 MiB