Package: GOpro Version: 1.33.0 Command: /Library/Frameworks/R.framework/Resources/bin/R CMD INSTALL GOpro StartedAt: 2025-02-20 15:08:20 -0500 (Thu, 20 Feb 2025) EndedAt: 2025-02-20 15:08:35 -0500 (Thu, 20 Feb 2025) EllapsedTime: 14.9 seconds RetCode: 0 Status: OK