Package: GOpro Version: 1.33.0 Command: /Library/Frameworks/R.framework/Resources/bin/R CMD check --install=check:GOpro.install-out.txt --library=/Library/Frameworks/R.framework/Resources/library --no-vignettes --timings GOpro_1.33.0.tar.gz StartedAt: 2025-02-20 19:34:01 -0500 (Thu, 20 Feb 2025) EndedAt: 2025-02-20 19:35:27 -0500 (Thu, 20 Feb 2025) EllapsedTime: 86.0 seconds RetCode: 0 Status: OK CheckDir: GOpro.Rcheck Warnings: 0