Package: GOfuncR Version: 1.27.0 Command: /Library/Frameworks/R.framework/Resources/bin/R CMD check --install=check:GOfuncR.install-out.txt --library=/Library/Frameworks/R.framework/Resources/library --no-vignettes --timings GOfuncR_1.27.0.tar.gz StartedAt: 2025-02-20 20:48:46 -0500 (Thu, 20 Feb 2025) EndedAt: 2025-02-20 20:54:10 -0500 (Thu, 20 Feb 2025) EllapsedTime: 324.1 seconds RetCode: 0 Status: OK CheckDir: GOfuncR.Rcheck Warnings: 0