Package: GOexpress Version: 1.41.0 Command: /home/biocbuild/bbs-3.21-bioc/R/bin/R CMD check --install=check:GOexpress.install-out.txt --library=/home/biocbuild/bbs-3.21-bioc/R/site-library --timings GOexpress_1.41.0.tar.gz StartedAt: 2025-02-19 22:46:01 -0500 (Wed, 19 Feb 2025) EndedAt: 2025-02-19 22:48:14 -0500 (Wed, 19 Feb 2025) EllapsedTime: 133.1 seconds RetCode: 0 Status: WARNINGS CheckDir: GOexpress.Rcheck Warnings: 1