Package: GOTHiC Version: 1.43.0 Command: /Library/Frameworks/R.framework/Resources/bin/R CMD INSTALL GOTHiC StartedAt: 2025-02-20 15:24:20 -0500 (Thu, 20 Feb 2025) EndedAt: 2025-02-20 15:25:11 -0500 (Thu, 20 Feb 2025) EllapsedTime: 51.0 seconds RetCode: 0 Status: OK