Package: GOTHiC Version: 1.43.0 Command: /Library/Frameworks/R.framework/Resources/bin/R CMD build --keep-empty-dirs --no-resave-data GOTHiC StartedAt: 2025-02-20 16:52:39 -0500 (Thu, 20 Feb 2025) EndedAt: 2025-02-20 16:53:25 -0500 (Thu, 20 Feb 2025) EllapsedTime: 45.6 seconds RetCode: 0 Status: OK PackageFile: GOTHiC_1.43.0.tar.gz PackageFileSize: 1.697 MiB