Package: GOTHiC Version: 1.43.0 Command: /Library/Frameworks/R.framework/Resources/bin/R CMD check --install=check:GOTHiC.install-out.txt --library=/Library/Frameworks/R.framework/Resources/library --no-vignettes --timings GOTHiC_1.43.0.tar.gz StartedAt: 2025-02-20 19:35:06 -0500 (Thu, 20 Feb 2025) EndedAt: 2025-02-20 19:37:13 -0500 (Thu, 20 Feb 2025) EllapsedTime: 127.6 seconds RetCode: 0 Status: OK CheckDir: GOTHiC.Rcheck Warnings: 0