Package: GOSemSim Version: 2.33.0 Command: chmod a+r GOSemSim -R && E:\biocbuild\bbs-3.21-bioc\R\bin\R.exe CMD build --keep-empty-dirs --no-resave-data GOSemSim StartedAt: 2025-02-19 19:04:47 -0500 (Wed, 19 Feb 2025) EndedAt: 2025-02-19 19:05:28 -0500 (Wed, 19 Feb 2025) EllapsedTime: 41.7 seconds RetCode: 0 Status: OK PackageFile: GOSemSim_2.33.0.tar.gz PackageFileSize: 594.7 KiB