Package: GOSemSim Version: 2.33.0 Command: rm -rf GOSemSim.buildbin-libdir && mkdir GOSemSim.buildbin-libdir && E:\biocbuild\bbs-3.21-bioc\R\bin\R.exe CMD INSTALL --build --library=GOSemSim.buildbin-libdir GOSemSim_2.33.0.tar.gz StartedAt: 2025-02-20 07:55:01 -0500 (Thu, 20 Feb 2025) EndedAt: 2025-02-20 07:55:50 -0500 (Thu, 20 Feb 2025) EllapsedTime: 49.3 seconds RetCode: 0 Status: OK PackageFile: GOSemSim_2.33.0.zip PackageFileSize: 1.453 MiB