Package: GOSemSim Version: 2.33.0 Command: /home/biocbuild/bbs-3.21-bioc/R/bin/R CMD build --keep-empty-dirs --no-resave-data GOSemSim StartedAt: 2025-02-19 17:29:19 -0500 (Wed, 19 Feb 2025) EndedAt: 2025-02-19 17:29:43 -0500 (Wed, 19 Feb 2025) EllapsedTime: 24.0 seconds RetCode: 0 Status: OK PackageFile: GOSemSim_2.33.0.tar.gz PackageFileSize: 594.7 KiB