Package: GOSemSim Version: 2.33.0 Command: /Library/Frameworks/R.framework/Resources/bin/R CMD INSTALL GOSemSim StartedAt: 2025-02-20 15:14:35 -0500 (Thu, 20 Feb 2025) EndedAt: 2025-02-20 15:15:07 -0500 (Thu, 20 Feb 2025) EllapsedTime: 31.9 seconds RetCode: 0 Status: OK