Package: GOSemSim Version: 2.33.0 Command: /Library/Frameworks/R.framework/Resources/bin/R CMD check --install=check:GOSemSim.install-out.txt --library=/Library/Frameworks/R.framework/Resources/library --no-vignettes --timings GOSemSim_2.33.0.tar.gz StartedAt: 2025-02-20 20:49:07 -0500 (Thu, 20 Feb 2025) EndedAt: 2025-02-20 20:51:53 -0500 (Thu, 20 Feb 2025) EllapsedTime: 165.6 seconds RetCode: 0 Status: OK CheckDir: GOSemSim.Rcheck Warnings: 0