Package: GOSemSim Version: 2.33.0 Command: /Library/Frameworks/R.framework/Resources/bin/R CMD build --keep-empty-dirs --no-resave-data GOSemSim StartedAt: 2025-02-20 16:52:13 -0500 (Thu, 20 Feb 2025) EndedAt: 2025-02-20 16:52:39 -0500 (Thu, 20 Feb 2025) EllapsedTime: 26.1 seconds RetCode: 0 Status: OK PackageFile: GOSemSim_2.33.0.tar.gz PackageFileSize: 594.7 KiB