Package: GNOSIS Version: 1.5.0 Command: E:\biocbuild\bbs-3.21-bioc\R\bin\R.exe CMD INSTALL GNOSIS StartedAt: 2025-02-20 16:56:49 -0500 (Thu, 20 Feb 2025) EndedAt: 2025-02-20 16:58:15 -0500 (Thu, 20 Feb 2025) EllapsedTime: 85.7 seconds RetCode: 0 Status: OK