Package: GNOSIS Version: 1.5.0 Command: chmod a+r GNOSIS -R && E:\biocbuild\bbs-3.21-bioc\R\bin\R.exe CMD build --keep-empty-dirs --no-resave-data GNOSIS StartedAt: 2025-02-20 19:05:15 -0500 (Thu, 20 Feb 2025) EndedAt: 2025-02-20 19:07:08 -0500 (Thu, 20 Feb 2025) EllapsedTime: 112.9 seconds RetCode: 0 Status: OK PackageFile: GNOSIS_1.5.0.tar.gz PackageFileSize: 3.374 MiB