Package: GNET2 Version: 1.23.0 Command: E:\biocbuild\bbs-3.21-bioc\R\bin\R.exe CMD INSTALL GNET2 StartedAt: 2025-02-20 16:01:56 -0500 (Thu, 20 Feb 2025) EndedAt: 2025-02-20 16:02:38 -0500 (Thu, 20 Feb 2025) EllapsedTime: 42.4 seconds RetCode: 0 Status: OK