Package: GNET2 Version: 1.23.0 Command: chmod a+r GNET2 -R && E:\biocbuild\bbs-3.21-bioc\R\bin\R.exe CMD build --keep-empty-dirs --no-resave-data GNET2 StartedAt: 2025-02-20 19:05:08 -0500 (Thu, 20 Feb 2025) EndedAt: 2025-02-20 19:06:14 -0500 (Thu, 20 Feb 2025) EllapsedTime: 65.8 seconds RetCode: 0 Status: OK PackageFile: GNET2_1.23.0.tar.gz PackageFileSize: 653.9 KiB