Package: GNET2 Version: 1.23.0 Command: rm -rf GNET2.buildbin-libdir && mkdir GNET2.buildbin-libdir && E:\biocbuild\bbs-3.21-bioc\R\bin\R.exe CMD INSTALL --build --library=GNET2.buildbin-libdir GNET2_1.23.0.tar.gz StartedAt: 2025-02-21 08:13:32 -0500 (Fri, 21 Feb 2025) EndedAt: 2025-02-21 08:14:18 -0500 (Fri, 21 Feb 2025) EllapsedTime: 46.2 seconds RetCode: 0 Status: OK PackageFile: GNET2_1.23.0.zip PackageFileSize: 1.063 MiB