Package: GNET2 Version: 1.23.0 Command: /home/biocbuild/bbs-3.21-bioc/R/bin/R CMD INSTALL GNET2 StartedAt: 2025-02-20 15:27:17 -0500 (Thu, 20 Feb 2025) EndedAt: 2025-02-20 15:27:50 -0500 (Thu, 20 Feb 2025) EllapsedTime: 32.5 seconds RetCode: 0 Status: OK