Package: GNET2 Version: 1.23.0 Command: /Library/Frameworks/R.framework/Resources/bin/R CMD build --keep-empty-dirs --no-resave-data GNET2 StartedAt: 2025-02-21 16:52:22 -0500 (Fri, 21 Feb 2025) EndedAt: 2025-02-21 16:53:12 -0500 (Fri, 21 Feb 2025) EllapsedTime: 50.2 seconds RetCode: 0 Status: OK PackageFile: GNET2_1.23.0.tar.gz PackageFileSize: 786.2 KiB