Package: GNET2 Version: 1.23.0 Command: rm -rf GNET2.buildbin-libdir && mkdir GNET2.buildbin-libdir && /Users/biocbuild/BBS/utils/build-universal.sh GNET2_1.23.0.tar.gz /Library/Frameworks/R.framework/Resources/bin/R GNET2.buildbin-libdir StartedAt: 2025-02-22 00:34:37 -0500 (Sat, 22 Feb 2025) EndedAt: 2025-02-22 00:35:23 -0500 (Sat, 22 Feb 2025) EllapsedTime: 46.3 seconds RetCode: 0 Status: OK PackageFile: GNET2_1.23.0.tgz PackageFileSize: 910.1 KiB