Package: GNET2 Version: 1.23.0 Command: /Library/Frameworks/R.framework/Resources/bin/R CMD check --install=check:GNET2.install-out.txt --library=/Library/Frameworks/R.framework/Resources/library --no-vignettes --timings GNET2_1.23.0.tar.gz StartedAt: 2025-02-20 19:33:09 -0500 (Thu, 20 Feb 2025) EndedAt: 2025-02-20 19:34:12 -0500 (Thu, 20 Feb 2025) EllapsedTime: 62.7 seconds RetCode: 0 Status: OK CheckDir: GNET2.Rcheck Warnings: 0