Package: GNET2 Version: 1.24.0 Command: /Library/Frameworks/R.framework/Resources/bin/R CMD INSTALL GNET2 StartedAt: 2025-10-09 16:10:19 -0400 (Thu, 09 Oct 2025) EndedAt: 2025-10-09 16:10:58 -0400 (Thu, 09 Oct 2025) EllapsedTime: 38.8 seconds RetCode: 0 Status: OK