Package: GMRP Version: 1.35.0 Command: E:\biocbuild\bbs-3.21-bioc\R\bin\R.exe CMD INSTALL GMRP StartedAt: 2025-02-19 15:41:19 -0500 (Wed, 19 Feb 2025) EndedAt: 2025-02-19 15:41:37 -0500 (Wed, 19 Feb 2025) EllapsedTime: 17.7 seconds RetCode: 0 Status: OK